BEGIN:VCALENDAR
VERSION:2.0
PRODID:-//Valor Classical Academy - ECPv6.15.20//NONSGML v1.0//EN
CALSCALE:GREGORIAN
METHOD:PUBLISH
X-ORIGINAL-URL:https://vcaidaho.org
X-WR-CALDESC:Events for Valor Classical Academy
REFRESH-INTERVAL;VALUE=DURATION:PT1H
X-Robots-Tag:noindex
X-PUBLISHED-TTL:PT1H
BEGIN:VTIMEZONE
TZID:America/Boise
BEGIN:DAYLIGHT
TZOFFSETFROM:-0700
TZOFFSETTO:-0600
TZNAME:MDT
DTSTART:20250309T090000
END:DAYLIGHT
BEGIN:STANDARD
TZOFFSETFROM:-0600
TZOFFSETTO:-0700
TZNAME:MST
DTSTART:20251102T080000
END:STANDARD
BEGIN:DAYLIGHT
TZOFFSETFROM:-0700
TZOFFSETTO:-0600
TZNAME:MDT
DTSTART:20260308T090000
END:DAYLIGHT
BEGIN:STANDARD
TZOFFSETFROM:-0600
TZOFFSETTO:-0700
TZNAME:MST
DTSTART:20261101T080000
END:STANDARD
BEGIN:DAYLIGHT
TZOFFSETFROM:-0700
TZOFFSETTO:-0600
TZNAME:MDT
DTSTART:20270314T090000
END:DAYLIGHT
BEGIN:STANDARD
TZOFFSETFROM:-0600
TZOFFSETTO:-0700
TZNAME:MST
DTSTART:20271107T080000
END:STANDARD
END:VTIMEZONE
BEGIN:VEVENT
DTSTART;TZID=America/Boise:20260411T100000
DTEND;TZID=America/Boise:20260411T130000
DTSTAMP:20260421T074343
CREATED:20260320T221911Z
LAST-MODIFIED:20260320T221911Z
UID:102378-1775901600-1775912400@vcaidaho.org
SUMMARY:Valor Family and Uniform Preorder Open House Event
DESCRIPTION:Come meet other Valor families\, see sample uniforms\, and pre-order to beat the rush!
URL:https://vcaidaho.org/event/valor-family-and-uniform-preorder-open-house-event/
LOCATION:Boys and Girls Club Kuna\, 470 W Mendi Pl\, Kuna\, ID\, 83634\, United States
ATTACH;FMTTYPE=image/jpeg:https://vcaidaho.org/wp-content/uploads/2026/03/Beige-Simple-Minimalist-Floral-Graduation-Party-Invitation.jpg
END:VEVENT
END:VCALENDAR