BEGIN:VCALENDAR
VERSION:2.0
PRODID:-//Valor Classical Academy - ECPv6.15.20//NONSGML v1.0//EN
CALSCALE:GREGORIAN
METHOD:PUBLISH
X-ORIGINAL-URL:https://vcaidaho.org
X-WR-CALDESC:Events for Valor Classical Academy
REFRESH-INTERVAL;VALUE=DURATION:PT1H
X-Robots-Tag:noindex
X-PUBLISHED-TTL:PT1H
BEGIN:VTIMEZONE
TZID:UTC
BEGIN:STANDARD
TZOFFSETFROM:+0000
TZOFFSETTO:+0000
TZNAME:UTC
DTSTART:20250101T000000
END:STANDARD
END:VTIMEZONE
BEGIN:VEVENT
DTSTART;TZID=UTC:20260418T130000
DTEND;TZID=UTC:20260418T140000
DTSTAMP:20260421T072804
CREATED:20260317T212541Z
LAST-MODIFIED:20260320T225408Z
UID:102365-1776517200-1776520800@vcaidaho.org
SUMMARY:Information session
DESCRIPTION:Join us at the Kuna Library to learn about classical education and Valor Classical Academy\, Kuna/South Meridian’s newest tuition-free and public charter school opening August 2026 with grades K-7.
URL:https://vcaidaho.org/event/information-session-5/
LOCATION:Kuna Library\, 457 N Locust Ave\, Kuna\, ID\, 83634
ATTACH;FMTTYPE=image/png:https://vcaidaho.org/wp-content/uploads/2025/02/Info-Sesh-Icon.png
END:VEVENT
END:VCALENDAR