BEGIN:VCALENDAR
VERSION:2.0
PRODID:-//Valor Classical Academy - ECPv6.15.20//NONSGML v1.0//EN
CALSCALE:GREGORIAN
METHOD:PUBLISH
X-ORIGINAL-URL:https://vcaidaho.org
X-WR-CALDESC:Events for Valor Classical Academy
REFRESH-INTERVAL;VALUE=DURATION:PT1H
X-Robots-Tag:noindex
X-PUBLISHED-TTL:PT1H
BEGIN:VTIMEZONE
TZID:UTC
BEGIN:STANDARD
TZOFFSETFROM:+0000
TZOFFSETTO:+0000
TZNAME:UTC
DTSTART:20250101T000000
END:STANDARD
END:VTIMEZONE
BEGIN:VEVENT
DTSTART;TZID=UTC:20260325T100000
DTEND;TZID=UTC:20260325T140000
DTSTAMP:20260421T140832
CREATED:20260310T060839Z
LAST-MODIFIED:20260331T155620Z
UID:102311-1774432800-1774447200@vcaidaho.org
SUMMARY:School Leadership office hours
DESCRIPTION:15 minute virtual meeting with school leaders to discuss Valor Classical Academy.  Sign up for an appointment here.  https://calendar.app.google/BJLzdaKEipjxqY5E6
URL:https://vcaidaho.org/event/school-leadership-office-hours-7/
CATEGORIES:School Leadership office hours
END:VEVENT
END:VCALENDAR