BEGIN:VCALENDAR
VERSION:2.0
PRODID:-//Valor Classical Academy - ECPv6.15.20//NONSGML v1.0//EN
CALSCALE:GREGORIAN
METHOD:PUBLISH
X-WR-CALNAME:Valor Classical Academy
X-ORIGINAL-URL:https://vcaidaho.org
X-WR-CALDESC:Events for Valor Classical Academy
REFRESH-INTERVAL;VALUE=DURATION:PT1H
X-Robots-Tag:noindex
X-PUBLISHED-TTL:PT1H
BEGIN:VTIMEZONE
TZID:UTC
BEGIN:STANDARD
TZOFFSETFROM:+0000
TZOFFSETTO:+0000
TZNAME:UTC
DTSTART:20240101T000000
END:STANDARD
END:VTIMEZONE
BEGIN:VTIMEZONE
TZID:America/Boise
BEGIN:DAYLIGHT
TZOFFSETFROM:-0700
TZOFFSETTO:-0600
TZNAME:MDT
DTSTART:20240310T090000
END:DAYLIGHT
BEGIN:STANDARD
TZOFFSETFROM:-0600
TZOFFSETTO:-0700
TZNAME:MST
DTSTART:20241103T080000
END:STANDARD
BEGIN:DAYLIGHT
TZOFFSETFROM:-0700
TZOFFSETTO:-0600
TZNAME:MDT
DTSTART:20250309T090000
END:DAYLIGHT
BEGIN:STANDARD
TZOFFSETFROM:-0600
TZOFFSETTO:-0700
TZNAME:MST
DTSTART:20251102T080000
END:STANDARD
BEGIN:DAYLIGHT
TZOFFSETFROM:-0700
TZOFFSETTO:-0600
TZNAME:MDT
DTSTART:20260308T090000
END:DAYLIGHT
BEGIN:STANDARD
TZOFFSETFROM:-0600
TZOFFSETTO:-0700
TZNAME:MST
DTSTART:20261101T080000
END:STANDARD
END:VTIMEZONE
BEGIN:VEVENT
DTSTART;TZID=UTC:20250809T100000
DTEND;TZID=UTC:20250809T110000
DTSTAMP:20260421T161426
CREATED:20250612T205141Z
LAST-MODIFIED:20250612T205236Z
UID:918-1754733600-1754737200@vcaidaho.org
SUMMARY:Information Session
DESCRIPTION:Join us at the Ada County Library – Lake Hazel branch to learn about classical education and Valor Classical Academy\, Kuna/south Meridian’s newest tuition free and public charter school opening August 2026 with grades K-7.
URL:https://vcaidaho.org/event/information-session-3/
LOCATION:Ada Community Library – Lake Hazel Branch\, 10489 W Lake Hazel Rd\, Boise\, ID\, 83709
ATTACH;FMTTYPE=image/png:https://vcaidaho.org/wp-content/uploads/2025/02/Info-Sesh-Icon.png
END:VEVENT
BEGIN:VEVENT
DTSTART;TZID=UTC:20250711T120000
DTEND;TZID=UTC:20250711T130000
DTSTAMP:20260421T161426
CREATED:20250521T024112Z
LAST-MODIFIED:20250612T204955Z
UID:911-1752235200-1752238800@vcaidaho.org
SUMMARY:Information Session
DESCRIPTION:Come learn about classical education and Valor Classical Academy\, Kuna/Meridian’s newest tuition free and public charter school opening August 2026 with grades K-7.
URL:https://vcaidaho.org/event/information-session-2/
LOCATION:Meridian Library – Pinnacle\, 1375 E Phenomenal St.\, Meridian\, ID\, 83642\, United States
ATTACH;FMTTYPE=image/png:https://vcaidaho.org/wp-content/uploads/2025/02/Info-Sesh-Icon.png
END:VEVENT
BEGIN:VEVENT
DTSTART;TZID=UTC:20250613T140000
DTEND;TZID=UTC:20250613T190000
DTSTAMP:20260421T161426
CREATED:20250401T233732Z
LAST-MODIFIED:20250401T233952Z
UID:896-1749823200-1749841200@vcaidaho.org
SUMMARY:Q&A Session
DESCRIPTION:Get your questions about classical education and/or Valor Classical Academy answered while enjoying a tasty treat!
URL:https://vcaidaho.org/event/qa-session-2/
LOCATION:Sprinkles on Top\, 375 N Ave E\, Kuna\, ID\, 83634
ATTACH;FMTTYPE=image/jpeg:https://vcaidaho.org/wp-content/uploads/2024/11/Purple-Simple-QA-Session-Instagram-Post.jpg
END:VEVENT
BEGIN:VEVENT
DTSTART;TZID=America/Boise:20250611T190000
DTEND;TZID=America/Boise:20250611T200000
DTSTAMP:20260421T161426
CREATED:20250513T002108Z
LAST-MODIFIED:20250513T002108Z
UID:906-1749668400-1749672000@vcaidaho.org
SUMMARY:Virtual Information Session
DESCRIPTION:
URL:https://vcaidaho.org/event/virtual-information-session-2/
LOCATION:ID
ATTACH;FMTTYPE=image/png:https://vcaidaho.org/wp-content/uploads/2025/02/Info-Sesh-Icon.png
END:VEVENT
BEGIN:VEVENT
DTSTART;TZID=UTC:20250520T180000
DTEND;TZID=UTC:20250520T190000
DTSTAMP:20260421T161426
CREATED:20250416T211601Z
LAST-MODIFIED:20250416T211601Z
UID:902-1747764000-1747767600@vcaidaho.org
SUMMARY:Information Session
DESCRIPTION:
URL:https://vcaidaho.org/event/information-session/
LOCATION:Kuna Library\, 457 N Locust Ave\, Kuna\, ID\, 83634
ATTACH;FMTTYPE=image/png:https://vcaidaho.org/wp-content/uploads/2025/02/Info-Sesh-Icon.png
END:VEVENT
BEGIN:VEVENT
DTSTART;TZID=UTC:20250510T120000
DTEND;TZID=UTC:20250510T160000
DTSTAMP:20260421T161426
CREATED:20250401T233239Z
LAST-MODIFIED:20250401T233843Z
UID:893-1746878400-1746892800@vcaidaho.org
SUMMARY:Valor Spring Parade of Homes
DESCRIPTION:Bring your questions and see the neighborhood where Valor Classical Academy will be built!
URL:https://vcaidaho.org/event/valor-spring-parade-of-homes/
LOCATION:Valor Idaho Community\, 11102 S. Cloverdale Rd.\, Kuna\, ID\, 83634
ATTACH;FMTTYPE=image/jpeg:https://vcaidaho.org/wp-content/uploads/2024/11/Purple-Simple-QA-Session-Instagram-Post.jpg
END:VEVENT
BEGIN:VEVENT
DTSTART;VALUE=DATE:20250503
DTEND;VALUE=DATE:20250506
DTSTAMP:20260421T161426
CREATED:20250401T232724Z
LAST-MODIFIED:20250401T232724Z
UID:888-1746230400-1746489599@vcaidaho.org
SUMMARY:Kuna Hometown Fair
DESCRIPTION:Visit our table in the vendor section at the Kuna Hometown Fair and learn more about Valor Classical Academy! \nFriday\, May 3rd ~ 3:00 PM – 10:00 PM \nSaturday\, May 4th ~ 11:00 AM – 10:00 PM \nSunday\, May 5th ~ 11:00 AM – 5:00 PM
URL:https://vcaidaho.org/event/kuna-hometown-fair/
LOCATION:210 W Main Street Kuna\, Idaho 83634
ATTACH;FMTTYPE=image/jpeg:https://vcaidaho.org/wp-content/uploads/2024/11/Purple-Simple-QA-Session-Instagram-Post.jpg
END:VEVENT
BEGIN:VEVENT
DTSTART;TZID=UTC:20250326T190000
DTEND;TZID=UTC:20250326T210000
DTSTAMP:20260421T161426
CREATED:20250121T234915Z
LAST-MODIFIED:20250121T234915Z
UID:818-1743015600-1743022800@vcaidaho.org
SUMMARY:ACSI Board Meeting
DESCRIPTION:
URL:https://vcaidaho.org/event/acsi-board-meeting-3/
LOCATION:ID
ATTACH;FMTTYPE=image/png:https://vcaidaho.org/wp-content/uploads/2025/01/Home-American-Classical-Schools-of-Idaho-01-21-2025_09_33_AM.png
END:VEVENT
BEGIN:VEVENT
DTSTART;TZID=UTC:20250326T190000
DTEND;TZID=UTC:20250326T200000
DTSTAMP:20260421T161426
CREATED:20250207T224243Z
LAST-MODIFIED:20250327T041828Z
UID:859-1743015600-1743019200@vcaidaho.org
SUMMARY:Virtual Information Session
DESCRIPTION:Join us for a virtual information session and learn more about our classical curriculum\, our mission\, and vision for Valor Classical Academy\, a free and public charter school opening August 2026 in Kuna with grades K-7. We plan on a 30 minute presentation and 30 minutes for questions.\n\nZoom link: https://us06web.zoom.us/j/85401626604?pwd=m1Gj1IbEhCC7UPDNS8C6E6PlZZ3ptf.1&jst=2
URL:https://vcaidaho.org/event/virtual-information-session/
LOCATION:ID
ATTACH;FMTTYPE=image/png:https://vcaidaho.org/wp-content/uploads/2025/02/Info-Sesh-Icon.png
END:VEVENT
BEGIN:VEVENT
DTSTART;TZID=UTC:20250315T123000
DTEND;TZID=UTC:20250315T133000
DTSTAMP:20260421T161426
CREATED:20250207T223904Z
LAST-MODIFIED:20250219T224429Z
UID:853-1742041800-1742045400@vcaidaho.org
SUMMARY:Informational Session
DESCRIPTION:Curious about classical education? Have questions about the new charter school coming to Kuna August 2026? Join us for an in depth Informational Session at the Ada Community Library – Lake Hazel Branch on March 15th following Family Story time!
URL:https://vcaidaho.org/event/informational-session/
LOCATION:Ada Community Library – Lake Hazel Branch\, 10489 W Lake Hazel Rd\, Boise\, ID\, 83709
ATTACH;FMTTYPE=image/png:https://vcaidaho.org/wp-content/uploads/2025/02/Info-Sesh-Icon.png
END:VEVENT
BEGIN:VEVENT
DTSTART;TZID=America/Boise:20250228T121500
DTEND;TZID=America/Boise:20250228T131500
DTSTAMP:20260421T161426
CREATED:20250207T223637Z
LAST-MODIFIED:20250219T224412Z
UID:848-1740744900-1740748500@vcaidaho.org
SUMMARY:Q&A Session
DESCRIPTION:Curious about classical education? Have questions about the new charter school coming to Kuna August 2026? Join us for an informal Q&A session at the Ada Community Library – Victory branch on February 28th following the Little Scholars event!
URL:https://vcaidaho.org/event/qa-session/
LOCATION:Ada Community Library – Victory Branch\, 10664 W Victory Rd\, Boise\, ID\, 83709\, United States
ATTACH;FMTTYPE=image/jpeg:https://vcaidaho.org/wp-content/uploads/2024/11/Purple-Simple-QA-Session-Instagram-Post.jpg
END:VEVENT
BEGIN:VEVENT
DTSTART;TZID=UTC:20250226T190000
DTEND;TZID=UTC:20250226T210000
DTSTAMP:20260421T161426
CREATED:20250121T234833Z
LAST-MODIFIED:20250121T234833Z
UID:816-1740596400-1740603600@vcaidaho.org
SUMMARY:ACSI Board Meeting
DESCRIPTION:
URL:https://vcaidaho.org/event/acsi-board-meeting-2/
LOCATION:ID
ATTACH;FMTTYPE=image/png:https://vcaidaho.org/wp-content/uploads/2025/01/Home-American-Classical-Schools-of-Idaho-01-21-2025_09_33_AM.png
END:VEVENT
BEGIN:VEVENT
DTSTART;TZID=UTC:20250129T190000
DTEND;TZID=UTC:20250129T210000
DTSTAMP:20260421T161426
CREATED:20250121T233328Z
LAST-MODIFIED:20250121T233427Z
UID:813-1738177200-1738184400@vcaidaho.org
SUMMARY:ACSI Board Meeting
DESCRIPTION:
URL:https://vcaidaho.org/event/acsi-board-meeting/
LOCATION:ID
ATTACH;FMTTYPE=image/png:https://vcaidaho.org/wp-content/uploads/2025/01/Home-American-Classical-Schools-of-Idaho-01-21-2025_09_33_AM.png
END:VEVENT
BEGIN:VEVENT
DTSTART;TZID=America/Boise:20250128T111500
DTEND;TZID=America/Boise:20250128T121500
DTSTAMP:20260421T161426
CREATED:20241122T144841Z
LAST-MODIFIED:20250121T001128Z
UID:743-1738062900-1738066500@vcaidaho.org
SUMMARY:Q&A Session
DESCRIPTION:Curious about classical education? Have questions about the new charter school coming to Kuna fall 2026? Join us for an informal Q&A session at the Meridian Pinnacle Library after Pre-K Storytime and Art!
URL:https://vcaidaho.org/event/new-event/
LOCATION:Meridian Library – Pinnacle\, 1375 E Phenomenal St.\, Meridian\, ID\, 83642\, United States
ATTACH;FMTTYPE=image/jpeg:https://vcaidaho.org/wp-content/uploads/2024/11/Purple-Simple-QA-Session-Instagram-Post.jpg
END:VEVENT
END:VCALENDAR